BEGIN:VCALENDAR
VERSION:2.0
PRODID:-//HR Management Software - ECPv6.15.20//NONSGML v1.0//EN
CALSCALE:GREGORIAN
METHOD:PUBLISH
X-ORIGINAL-URL:https://hrsoftware.app
X-WR-CALDESC:Events for HR Management Software
REFRESH-INTERVAL;VALUE=DURATION:PT1H
X-Robots-Tag:noindex
X-PUBLISHED-TTL:PT1H
BEGIN:VTIMEZONE
TZID:America/Vancouver
BEGIN:DAYLIGHT
TZOFFSETFROM:-0800
TZOFFSETTO:-0700
TZNAME:PDT
DTSTART:20240310T100000
END:DAYLIGHT
BEGIN:STANDARD
TZOFFSETFROM:-0700
TZOFFSETTO:-0800
TZNAME:PST
DTSTART:20241103T090000
END:STANDARD
BEGIN:DAYLIGHT
TZOFFSETFROM:-0800
TZOFFSETTO:-0700
TZNAME:PDT
DTSTART:20250309T100000
END:DAYLIGHT
BEGIN:STANDARD
TZOFFSETFROM:-0700
TZOFFSETTO:-0800
TZNAME:PST
DTSTART:20251102T090000
END:STANDARD
BEGIN:DAYLIGHT
TZOFFSETFROM:-0800
TZOFFSETTO:-0700
TZNAME:PDT
DTSTART:20260308T100000
END:DAYLIGHT
BEGIN:STANDARD
TZOFFSETFROM:-0700
TZOFFSETTO:-0800
TZNAME:PST
DTSTART:20261101T090000
END:STANDARD
END:VTIMEZONE
BEGIN:VEVENT
DTSTART;TZID=America/Vancouver:20250814T090000
DTEND;TZID=America/Vancouver:20250814T100000
DTSTAMP:20260421T110145
CREATED:20250715T215019Z
LAST-MODIFIED:20251015T221158Z
UID:27218-1755162000-1755165600@hrsoftware.app
SUMMARY:Offboarding
DESCRIPTION:View Recording\n			\n				\n				\n				\n				\n				Why Attend the Learning Lab:  \nJoin live to learn how to set up and effectively use the offboarding feature in BambooHR. Streamline your offboarding process by setting up customizable templates\, enabling you to gather crucial insights and ensure every departing employee leaves with a positive\, lasting impression of your organization. \nThis Learning Lab is an hour-long session where you’ll learn: \n\nHow to create your offboarding template in settings\nTo manage documents and build an effective offboarding checklist\nHow to offboard an employee in an organized and effective way\nHow to gain insights from terminated employees to grow from good to great\n\nWho is this live Learning Lab for? \nAll BambooHR customers are welcome to join! This session is specifically designed for customers who have not used the Offboarding feature or are looking to optimize its use in BambooHR. \nWhat is a live Learning Lab? \nThis is a live\, interactive webinar that will walk you through how to set up and optimize specific plan features. Bring your questions for a live Q&A \nRegistration Page: \nhttps://www.bamboohr.com/webinars/lab/offboarding
URL:https://hrsoftware.app/event/offboarding-20250814
CATEGORIES:Core
END:VEVENT
END:VCALENDAR