BEGIN:VCALENDAR
VERSION:2.0
PRODID:-//HR Management Software - ECPv6.15.20//NONSGML v1.0//EN
CALSCALE:GREGORIAN
METHOD:PUBLISH
X-WR-CALNAME:HR Management Software
X-ORIGINAL-URL:https://hrsoftware.app
X-WR-CALDESC:Events for HR Management Software
REFRESH-INTERVAL;VALUE=DURATION:PT1H
X-Robots-Tag:noindex
X-PUBLISHED-TTL:PT1H
BEGIN:VTIMEZONE
TZID:America/Vancouver
BEGIN:DAYLIGHT
TZOFFSETFROM:-0800
TZOFFSETTO:-0700
TZNAME:PDT
DTSTART:20240310T100000
END:DAYLIGHT
BEGIN:STANDARD
TZOFFSETFROM:-0700
TZOFFSETTO:-0800
TZNAME:PST
DTSTART:20241103T090000
END:STANDARD
BEGIN:DAYLIGHT
TZOFFSETFROM:-0800
TZOFFSETTO:-0700
TZNAME:PDT
DTSTART:20250309T100000
END:DAYLIGHT
BEGIN:STANDARD
TZOFFSETFROM:-0700
TZOFFSETTO:-0800
TZNAME:PST
DTSTART:20251102T090000
END:STANDARD
BEGIN:DAYLIGHT
TZOFFSETFROM:-0800
TZOFFSETTO:-0700
TZNAME:PDT
DTSTART:20260308T100000
END:DAYLIGHT
BEGIN:STANDARD
TZOFFSETFROM:-0700
TZOFFSETTO:-0800
TZNAME:PST
DTSTART:20261101T090000
END:STANDARD
END:VTIMEZONE
BEGIN:VEVENT
DTSTART;TZID=America/Vancouver:20250708T090000
DTEND;TZID=America/Vancouver:20250708T094500
DTSTAMP:20260421T125935
CREATED:20250715T183726Z
LAST-MODIFIED:20251015T224853Z
UID:27072-1751965200-1751967900@hrsoftware.app
SUMMARY:Applicant Tracking 101
DESCRIPTION:View 101 Recording\n			\n				View 201 Recording\n			\n				\n				\n				\n				\n				Why Attend the Learning Lab:  \nJoin this two-part Learning Lab to help you set up and optimize Applicant Tracking System (ATS). \nDiscover enhanced features like automated emails\, job pipelines\, and disqualifying questions to streamline communication and candidate management. Attract top talent\, boost your employer brand\, and make your hiring team shine! \nAttend both sessions to get the most out of this Learning Lab! \n\n101 Session (60 min)\n201 Session (60 min)\n\nWho is this live Learning Lab for? \nAll BambooHR customers are welcome to join! This session is specifically designed for customers on the Core or Pro plan who have not used the Applicant Tracking System (Hiring) or are looking to improve its performance in BambooHR and would like information about how to set up and optimize this feature. \nWhat is a live Learning Lab? \nThis is a live\, interactive webinar that will walk you through how to set up and optimize specific plan features. Bring your questions for a live Q&A! \nRegistration Link: \nhttps://www.bamboohr.com/webinars/lab/applicant-tracking
URL:https://hrsoftware.app/event/applicant-tracking-101-20250708
CATEGORIES:Core
END:VEVENT
BEGIN:VEVENT
DTSTART;TZID=America/Vancouver:20250710T090000
DTEND;TZID=America/Vancouver:20250710T100000
DTSTAMP:20260421T125935
CREATED:20250715T192802Z
LAST-MODIFIED:20251015T224657Z
UID:27099-1752138000-1752141600@hrsoftware.app
SUMMARY:Applicant Tracking 201
DESCRIPTION:View 101 Recording\n			\n				View 201 Recording\n			\n				\n				\n				\n				\n				Why Attend the Learning Lab:  \nJoin this two-part Learning Lab to help you set up and optimize Applicant Tracking System (ATS). \nDiscover enhanced features like automated emails\, job pipelines\, and disqualifying questions to streamline communication and candidate management. Attract top talent\, boost your employer brand\, and make your hiring team shine! \nAttend both sessions to get the most out of this Learning Lab! \n\n101 Session (60 min)\n201 Session (60 min)\n\nWho is this live Learning Lab for? \nAll BambooHR customers are welcome to join! This session is specifically designed for customers on the Core or Pro plan who have not used the Applicant Tracking System (Hiring) or are looking to improve its performance in BambooHR and would like information about how to set up and optimize this feature. \nWhat is a live Learning Lab? \nThis is a live\, interactive webinar that will walk you through how to set up and optimize specific plan features. Bring your questions for a live Q&A! \nRegistration Link: \nhttps://www.bamboohr.com/webinars/lab/applicant-tracking
URL:https://hrsoftware.app/event/applicant-tracking-201-20250710
CATEGORIES:Core
END:VEVENT
END:VCALENDAR