BEGIN:VCALENDAR
VERSION:2.0
PRODID:-//HR Management Software - ECPv6.15.20//NONSGML v1.0//EN
CALSCALE:GREGORIAN
METHOD:PUBLISH
X-WR-CALNAME:HR Management Software
X-ORIGINAL-URL:https://hrsoftware.app
X-WR-CALDESC:Events for HR Management Software
REFRESH-INTERVAL;VALUE=DURATION:PT1H
X-Robots-Tag:noindex
X-PUBLISHED-TTL:PT1H
BEGIN:VTIMEZONE
TZID:America/Vancouver
BEGIN:DAYLIGHT
TZOFFSETFROM:-0800
TZOFFSETTO:-0700
TZNAME:PDT
DTSTART:20250309T100000
END:DAYLIGHT
BEGIN:STANDARD
TZOFFSETFROM:-0700
TZOFFSETTO:-0800
TZNAME:PST
DTSTART:20251102T090000
END:STANDARD
BEGIN:DAYLIGHT
TZOFFSETFROM:-0800
TZOFFSETTO:-0700
TZNAME:PDT
DTSTART:20260308T100000
END:DAYLIGHT
BEGIN:STANDARD
TZOFFSETFROM:-0700
TZOFFSETTO:-0800
TZNAME:PST
DTSTART:20261101T090000
END:STANDARD
BEGIN:DAYLIGHT
TZOFFSETFROM:-0800
TZOFFSETTO:-0700
TZNAME:PDT
DTSTART:20270314T100000
END:DAYLIGHT
BEGIN:STANDARD
TZOFFSETFROM:-0700
TZOFFSETTO:-0800
TZNAME:PST
DTSTART:20271107T090000
END:STANDARD
END:VTIMEZONE
BEGIN:VEVENT
DTSTART;TZID=America/Vancouver:20260422T090000
DTEND;TZID=America/Vancouver:20260422T130000
DTSTAMP:20260422T043509
CREATED:20260309T223756Z
LAST-MODIFIED:20260309T223819Z
UID:28049-1776848400-1776862800@hrsoftware.app
SUMMARY:Preparing for Payroll
DESCRIPTION:Join this one-hour Learning Lab to discover how to prepare your BambooHR® account for Payroll implementation. This session is designed to help you check off critical setup tasks before implementation begins\, ensuring your payroll is accurate\, compliant\, and stress-free from the start. With a step-by-step review of benefits\, time off\, job information\, and access permissions\, you’ll feel confident and ready when it’s time to run payroll. \nThis Learning Lab is an hour-long session where you will learn: \n\nHow to confirm job and compensation details are complete\nTo assign payroll access and permissions to the right people\nWhich key settings to double-check before your first payroll run\nHow to review and set up benefits so deductions flow smoothly into payroll\nTo configure time off policies and time tracking for payroll accuracy\n\nPlus\, we’ll end with a live Q&A—bring your questions and get real-time answers from our experts! \nWho is this live Learning Lab for? \nThis session is specifically designed for customers who have purchased BambooHR Payroll but are waiting to begin implementation. \nWhat is a live Learning Lab? \nThis is a live\, interactive webinar that will walk you through how to set up and optimize specific BambooHR features. Bring your questions for a live Q&A. \nhttps://www.bamboohr.com/webinars/lab/payroll-prep
URL:https://hrsoftware.app/event/preparing-for-payroll-20260422
CATEGORIES:Add-on
END:VEVENT
END:VCALENDAR